BEGIN:VCALENDAR
VERSION:2.0
PRODID:-//Samavesa Yoga - ECPv6.15.20//NONSGML v1.0//EN
CALSCALE:GREGORIAN
METHOD:PUBLISH
X-WR-CALNAME:Samavesa Yoga
X-ORIGINAL-URL:https://samavesayoga.dk
X-WR-CALDESC:Begivenheder for Samavesa Yoga
REFRESH-INTERVAL;VALUE=DURATION:PT1H
X-Robots-Tag:noindex
X-PUBLISHED-TTL:PT1H
BEGIN:VTIMEZONE
TZID:UTC
BEGIN:STANDARD
TZOFFSETFROM:+0000
TZOFFSETTO:+0000
TZNAME:UTC
DTSTART:20250101T000000
END:STANDARD
END:VTIMEZONE
BEGIN:VEVENT
DTSTART;TZID=UTC:20260109T090000
DTEND;TZID=UTC:20260111T170000
DTSTAMP:20260423T104921
CREATED:20250812T045200Z
LAST-MODIFIED:20250812T045836Z
UID:5710-1767949200-1768150800@samavesayoga.dk
SUMMARY:Yin yoga Massage
DESCRIPTION:Yin Yoga Massage er både en konkret metode og en dyb praksis i nærvær. På kurset lærer du en række teknikker\, der kan bruges samlet som en fuld yogabaseret velværebehandling\, såvel som enkeltvis i form af støttende\, guidende berøringer og justeringer på dine yogaklasser. ​ Øvelserne foregår på en yogamåtte eller en stor\, blød madras på gulvet. Din elev eller klient er klædt i almindeligt yogatøj\, præcis som til en yogaklasse. \nYin Yoga Massage kombinerer blide stræk af kroppens yin-væv med stimulering af meridianer og andre teknikker\, der beroliger nervesystemet\, frigør vejrtrækningen og løsner op for spændinger i kroppen. Det handler ikke om at “rette på” kroppen\, men om at facilitere tryghed\, introspektion og interoception\, så klienten selv kan mærke og\, når kroppen er klar til det\, give slip på uhensigtsmæssige spændinger og mønstre. \n​​Dette er et praksisnært kursus med en balance mellem teori og hands-on læring. Du kan forvente at både give og modtage behandlinger hver kursusdag – selvfølgelig i et trygt\, nærende og lærende rum. \n🗓️ Dato: Torsdag d.9 – 11 januar + 28 januar 22026 \n  \nKurset er særligt velegnet for dig\, der eksempelvis: \n​ \n\nVil lære nye\, effektfulde hands-on teknikker som du kan bruge på både dine yogaklasser og enetimer.\nØnsker at blive klogere på bindevæv og kroppes forskelligheder.\nVil fordybe din evne til at holde rum\, facilitere ro og gå i nærværende dialog med dine elever og klienter – både med hænderne og med din tilstedeværelse.\nMåske vil udbyde massagebehandlinger baseret på alt dét\, du allerede ved og kan som yogalærer.​​\n\n​​ \nDet praktiske \n​Kurset kan sagtens stå alene\, men er også en del af Sattvas 300-timers YogaVejlederuddannelse; et uddannelsesforløb for dig\, der vil fordybe din yogafaglighed og specialisere dig i at undervise yoga målrettet den enkelte. \n  \nKursusfee er 5.500\,- og inkluderer alle 30 lektioner\, workbook samt eksamination. Udstedelse af certifikat forudsætter fuld deltagelse og bestået afsluttende praktisk eksamen samt to timers hjemmearbejde. \n  \nDer er mulighed for ratebetaling – helt uden bøvl eller gebyrer. ​​​ \n​ \nDu skal tilmelde dig via Maris egen hjemmeside\, og du finder det lige her  \n 
URL:https://samavesayoga.dk/event/yin-yoga-massage/
CATEGORIES:Uddannelse
ATTACH;FMTTYPE=image/jpeg:https://samavesayoga.dk/wp-content/uploads/yinmasssage.jpeg
END:VEVENT
END:VCALENDAR