BEGIN:VCALENDAR
VERSION:2.0
PRODID:-//Samavesa Yoga - ECPv6.15.20//NONSGML v1.0//EN
CALSCALE:GREGORIAN
METHOD:PUBLISH
X-WR-CALNAME:Samavesa Yoga
X-ORIGINAL-URL:https://samavesayoga.dk
X-WR-CALDESC:Begivenheder for Samavesa Yoga
REFRESH-INTERVAL;VALUE=DURATION:PT1H
X-Robots-Tag:noindex
X-PUBLISHED-TTL:PT1H
BEGIN:VTIMEZONE
TZID:UTC
BEGIN:STANDARD
TZOFFSETFROM:+0000
TZOFFSETTO:+0000
TZNAME:UTC
DTSTART:20240101T000000
END:STANDARD
END:VTIMEZONE
BEGIN:VEVENT
DTSTART;TZID=UTC:20251228T100000
DTEND;TZID=UTC:20251228T130000
DTSTAMP:20260423T120158
CREATED:20250916T090752Z
LAST-MODIFIED:20251104T070355Z
UID:5742-1766916000-1766926800@samavesayoga.dk
SUMMARY:Nytårssamling
DESCRIPTION:Sanselig Nytårssamling: Yoga\, Kreativ Fordybelse & Intentioner for 2026\nDato: 28/12-25 kl. 10-13 \nUndervisere: Rikke Borg & Janni Daugaard \nPris: 400 kr. pr. person \nSted: Samavesa Yogastudio\, Aarhus \nTag imod det nye år på en blid og nærværende måde 🌿Kom med til en sanselig nytårssamling i Aarhus\, hvor vi sammen markerer overgangen til 2026 i et rum af ro\, kreativitet og omsorg for både krop og sind. \nVi begynder dagen med blid yoga\, åndedræt og stille refleksion — en mulighed for at slippe det gamle år og mærke hvilken indre kvalitet du ønsker skal være din retning og støtte i det kommende år. \nDerefter guider Rikke dig ind i en kreativ og cirkulær proces\, hvor du skaber et lille\, personligt værk af genbrugsmaterialer. Et symbol på din intention; noget du kan tage med hjem som påmindelse om den måde\, du ønsker at bevæge dig ind i 2026 på. \nVi afrunder med dyb hvile og guidet meditation\, så kroppen får lov at integrere og du kan gå derfra med klarhed\, ro og en fornemmelse af indre retning. \nEn nænsom\, inspirerende og nærende måde at begynde året — hvor Janni og Rikke forener yoga\, mindful praksis\, kreativitet og hverdagsomsorg i én samlet oplevelse. \nDu kan tilmelde dig lige her
URL:https://samavesayoga.dk/event/5742/
CATEGORIES:Workshop
ATTACH;FMTTYPE=image/jpeg:https://samavesayoga.dk/wp-content/uploads/IMG_4524-e1762164369469.jpg
END:VEVENT
END:VCALENDAR