BEGIN:VCALENDAR
VERSION:2.0
PRODID:-//Samavesa Yoga - ECPv6.15.20//NONSGML v1.0//EN
CALSCALE:GREGORIAN
METHOD:PUBLISH
X-ORIGINAL-URL:https://samavesayoga.dk
X-WR-CALDESC:Begivenheder for Samavesa Yoga
REFRESH-INTERVAL;VALUE=DURATION:PT1H
X-Robots-Tag:noindex
X-PUBLISHED-TTL:PT1H
BEGIN:VTIMEZONE
TZID:UTC
BEGIN:STANDARD
TZOFFSETFROM:+0000
TZOFFSETTO:+0000
TZNAME:UTC
DTSTART:20240101T000000
END:STANDARD
END:VTIMEZONE
BEGIN:VEVENT
DTSTART;TZID=UTC:20251212T170000
DTEND;TZID=UTC:20251212T190000
DTSTAMP:20260423T120841
CREATED:20251023T114948Z
LAST-MODIFIED:20251027T154259Z
UID:5802-1765558800-1765566000@samavesayoga.dk
SUMMARY:Vinter-samling
DESCRIPTION:Fredag d. 12. december kl. 17–19\n\n\nPris: 400\n\n\nNår året nærmer sig sin afslutning\, og mørket tager til\, trækker naturen sig tilbage. Træerne står nøgne\, jorden hviler\, og luften bliver klar. Vinteren inviterer os til at gøre det samme – sænke tempoet\, lytte indad og give plads til det\, der ellers nemt forsvinder i decembers travlhed. \nDenne aften samles vi i et blødt og roligt rum midt i december. En pause fra krav og kalender – et sted at mærke vinterens kvalitet af stilhed og eftertanke. \nVi mødes i cirklen med ceremoniel kakao – en varm og hjertelig åbning. Herefter bevæger vi os ind i en langsom praksis med yin yoga og der vil være tid til en guidet refleksionsøvelse – som et spejl på vinterens indadvendthed. Aftenen afsluttes med afspænding\, blide tryk\, putning og et lydbad. \nMedbring en notesbog og skriveredskab. Resten sørger jeg for. \nHar du spørgsmål er du velkommen til at række ud til mig via camilla@slowbeauty.dk\n\n\n\nJeg glæder mig til at tage imod dig.\n\n\nKærligst\,\nCamilla\n\nLæs mere om Camilla lige her  eller følg med i hendes univers her. \nTilmeld dig her
URL:https://samavesayoga.dk/event/vintersamling/
CATEGORIES:Workshop
ATTACH;FMTTYPE=image/jpeg:https://samavesayoga.dk/wp-content/uploads/camilla_samavesa-17-scaled.jpg
END:VEVENT
END:VCALENDAR